BEGIN:VCALENDAR
VERSION:2.0
PRODID:-//Signal of NY Training - ECPv6.15.17//NONSGML v1.0//EN
CALSCALE:GREGORIAN
METHOD:PUBLISH
X-ORIGINAL-URL:https://nysecuritytraining.com
X-WR-CALDESC:Events for Signal of NY Training
REFRESH-INTERVAL;VALUE=DURATION:PT1H
X-Robots-Tag:noindex
X-PUBLISHED-TTL:PT1H
BEGIN:VTIMEZONE
TZID:UTC
BEGIN:STANDARD
TZOFFSETFROM:+0000
TZOFFSETTO:+0000
TZNAME:UTC
DTSTART:20240101T000000
END:STANDARD
END:VTIMEZONE
BEGIN:VEVENT
DTSTART;TZID=UTC:20250901T080000
DTEND;TZID=UTC:20250901T170000
DTSTAMP:20260419T125825
CREATED:20250809T003006Z
LAST-MODIFIED:20260318T113225Z
UID:10005557-1756713600-1756746000@nysecuritytraining.com
SUMMARY:47-Hour Firearms Training
DESCRIPTION:
URL:https://nysecuritytraining.com/event/47-hour-firearms-training/2025-09-01/
LOCATION:NY
END:VEVENT
BEGIN:VEVENT
DTSTART;TZID=UTC:20250903T080000
DTEND;TZID=UTC:20250903T170000
DTSTAMP:20260419T125825
CREATED:20250809T003006Z
LAST-MODIFIED:20260318T113225Z
UID:10005559-1756886400-1756918800@nysecuritytraining.com
SUMMARY:47-Hour Firearms Training
DESCRIPTION:
URL:https://nysecuritytraining.com/event/47-hour-firearms-training/2025-09-03/
LOCATION:NY
END:VEVENT
BEGIN:VEVENT
DTSTART;TZID=UTC:20250905T080000
DTEND;TZID=UTC:20250905T170000
DTSTAMP:20260419T125825
CREATED:20250809T003006Z
LAST-MODIFIED:20260318T113225Z
UID:10005561-1757059200-1757091600@nysecuritytraining.com
SUMMARY:47-Hour Firearms Training
DESCRIPTION:
URL:https://nysecuritytraining.com/event/47-hour-firearms-training/2025-09-05/
LOCATION:NY
END:VEVENT
BEGIN:VEVENT
DTSTART;TZID=UTC:20250908T080000
DTEND;TZID=UTC:20250908T170000
DTSTAMP:20260419T125825
CREATED:20250809T003006Z
LAST-MODIFIED:20260318T113225Z
UID:10005484-1757318400-1757350800@nysecuritytraining.com
SUMMARY:47-Hour Firearms Training
DESCRIPTION:
URL:https://nysecuritytraining.com/event/47-hour-firearms-training/2025-09-08/
LOCATION:NY
END:VEVENT
BEGIN:VEVENT
DTSTART;TZID=UTC:20250910T080000
DTEND;TZID=UTC:20250910T170000
DTSTAMP:20260419T125825
CREATED:20250809T003006Z
LAST-MODIFIED:20260318T113225Z
UID:10005563-1757491200-1757523600@nysecuritytraining.com
SUMMARY:47-Hour Firearms Training
DESCRIPTION:
URL:https://nysecuritytraining.com/event/47-hour-firearms-training/2025-09-10/
LOCATION:NY
END:VEVENT
BEGIN:VEVENT
DTSTART;TZID=UTC:20250912T080000
DTEND;TZID=UTC:20250912T170000
DTSTAMP:20260419T125825
CREATED:20250809T003006Z
LAST-MODIFIED:20260318T113225Z
UID:10005565-1757664000-1757696400@nysecuritytraining.com
SUMMARY:47-Hour Firearms Training
DESCRIPTION:
URL:https://nysecuritytraining.com/event/47-hour-firearms-training/2025-09-12/
LOCATION:NY
END:VEVENT
BEGIN:VEVENT
DTSTART;TZID=UTC:20250915T080000
DTEND;TZID=UTC:20250915T170000
DTSTAMP:20260419T125825
CREATED:20250809T003006Z
LAST-MODIFIED:20260318T113225Z
UID:10005566-1757923200-1757955600@nysecuritytraining.com
SUMMARY:47-Hour Firearms Training
DESCRIPTION:
URL:https://nysecuritytraining.com/event/47-hour-firearms-training/2025-09-15/
LOCATION:NY
END:VEVENT
BEGIN:VEVENT
DTSTART;TZID=UTC:20250917T080000
DTEND;TZID=UTC:20250917T170000
DTSTAMP:20260419T125825
CREATED:20250809T003006Z
LAST-MODIFIED:20260318T113225Z
UID:10005568-1758096000-1758128400@nysecuritytraining.com
SUMMARY:47-Hour Firearms Training
DESCRIPTION:
URL:https://nysecuritytraining.com/event/47-hour-firearms-training/2025-09-17/
LOCATION:NY
END:VEVENT
BEGIN:VEVENT
DTSTART;TZID=UTC:20250919T080000
DTEND;TZID=UTC:20250919T170000
DTSTAMP:20260419T125825
CREATED:20250809T003006Z
LAST-MODIFIED:20260318T113225Z
UID:10005570-1758268800-1758301200@nysecuritytraining.com
SUMMARY:47-Hour Firearms Training
DESCRIPTION:
URL:https://nysecuritytraining.com/event/47-hour-firearms-training/2025-09-19/
LOCATION:NY
END:VEVENT
BEGIN:VEVENT
DTSTART;TZID=UTC:20250922T080000
DTEND;TZID=UTC:20250922T170000
DTSTAMP:20260419T125825
CREATED:20250809T003006Z
LAST-MODIFIED:20260318T113225Z
UID:10005571-1758528000-1758560400@nysecuritytraining.com
SUMMARY:47-Hour Firearms Training
DESCRIPTION:
URL:https://nysecuritytraining.com/event/47-hour-firearms-training/2025-09-22/
LOCATION:NY
END:VEVENT
BEGIN:VEVENT
DTSTART;TZID=UTC:20250924T080000
DTEND;TZID=UTC:20250924T170000
DTSTAMP:20260419T125825
CREATED:20250809T003006Z
LAST-MODIFIED:20260318T113225Z
UID:10005573-1758700800-1758733200@nysecuritytraining.com
SUMMARY:47-Hour Firearms Training
DESCRIPTION:
URL:https://nysecuritytraining.com/event/47-hour-firearms-training/2025-09-24/
LOCATION:NY
END:VEVENT
BEGIN:VEVENT
DTSTART;TZID=UTC:20250926T080000
DTEND;TZID=UTC:20250926T170000
DTSTAMP:20260419T125825
CREATED:20250809T003006Z
LAST-MODIFIED:20260318T113225Z
UID:10005575-1758873600-1758906000@nysecuritytraining.com
SUMMARY:47-Hour Firearms Training
DESCRIPTION:
URL:https://nysecuritytraining.com/event/47-hour-firearms-training/2025-09-26/
LOCATION:NY
END:VEVENT
BEGIN:VEVENT
DTSTART;TZID=UTC:20250929T080000
DTEND;TZID=UTC:20250929T170000
DTSTAMP:20260419T125825
CREATED:20250809T003006Z
LAST-MODIFIED:20260318T113225Z
UID:10005576-1759132800-1759165200@nysecuritytraining.com
SUMMARY:47-Hour Firearms Training
DESCRIPTION:
URL:https://nysecuritytraining.com/event/47-hour-firearms-training/2025-09-29/
LOCATION:NY
END:VEVENT
END:VCALENDAR